Workbook
Name TYPE: Donnees!$A$4:$A$37

Sheet informations-collectivite
A2: Informations à remplir par le service de la taxe de séjour | B2: Nom de la collectivité | D2: Territoire de la Côte Ouest
B4: URL de la page d'accueil de la plateforme | D4: https://tco.taxesejour.fr/
B6: Adresse pied de page | D6: TCO - Régie Taxe de séjour
D7: 1 rue Eliard Laude - BP 50049 - 97822 LE PORT CEDEX
D8: Monsieur Le Régisseur de la taxe de séjour du TCO vous reçoit uniquement sur rendez-vous (Tél.: 0262 32 12 12 / Mél.: tco@taxesejour.fr)
B10: Tarif de la taxe de séjour avec taxe(s) additionnelle(s) si votre cette/ces taxe(s) est/sont instaurée(s) sur votre territoir
B11: Palaces | D11: 4
B12: Hôtels de tourisme 5 étoiles, résidences de tourisme 5 étoiles, meublés de tourisme 5 étoiles | D12: 2
B13: Hôtels de tourisme 4 étoiles, résidences de tourisme 4 étoiles, meublés de tourisme 4 étoiles | D13: 1.5
B14: Hôtels de tourisme 3 étoiles, résidences de tourisme 3 étoiles, meublés de tourisme 3 étoiles | D14: 1.1
B15: Hôtels de tourisme 2 étoiles, résidences de tourisme 2 étoiles, meublés de tourisme 2 étoiles, villages de vacances 4 et 5 étoiles | D15: 0.9
B16: Hôtels de tourisme 1 étoile, résidences de tourisme 1 étoile, meublés de tourisme 1 étoile, villages de vacances 1,2 et 3 étoiles, chambres d’hôtes | D16: 0.8
B17: Terrains de camping et terrains de caravanage classés en 3,4 et 5 étoiles et tout autre terrain d’hébergement de plein air de caractéristiques équivalentes, emplacements dans des aires de camping-cars et des parcs de stationnement touristiques par tranche de 24 heures | D17: 0.5
B18: Terrains de camping et terrains de caravanage classés en 1 et 2 étoiles et tout autre terrain d’hébergement de plein air de caractéristiques équivalentes, ports de plaisance | D18: 0.2

Sheet Donnees
A3: Nature de l'hébergement | B3: Tarifs en € / nuitée / personne
A4: Camping non classé, 1 et 2 étoiles | B4: ='informations-collectivite'!D18 -> 0.2
A5: Camping 3, 4 et 5 étoiles | B5: ='informations-collectivite'!D17 -> 0.5
A7: Aire de camping car | B7: ='informations-collectivite'!D17 -> 0.5
A9: Chambres d'hôtes | B9: ='informations-collectivite'!D16 -> 0.8
A11: Meublé de tourisme 1 étoile | B11: ='informations-collectivite'!D16 -> 0.8
A12: Meublé de tourisme 2 étoiles | B12: ='informations-collectivite'!D15 -> 0.9
A13: Meublé de tourisme 3 étoiles | B13: ='informations-collectivite'!D14 -> 1.1
A14: Meublé de tourisme 4 étoiles | B14: ='informations-collectivite'!D13 -> 1.5
A15: Meublé de tourisme 5 étoiles | B15: ='informations-collectivite'!D12 -> 2
A17: Sélectionnez la nature et la catégorie dans la liste de ce menu déroulant
A19: Hôtel 1 étoile | B19: ='informations-collectivite'!D16 -> 0.8
A20: Hôtel 2 étoiles | B20: ='informations-collectivite'!D15 -> 0.9
A21: Hôtel 3 étoiles | B21: ='informations-collectivite'!D14 -> 1.1
A22: Hôtel 4 étoiles | B22: ='informations-collectivite'!D13 -> 1.5
A23: Hôtel 5 étoiles | B23: ='informations-collectivite'!D12 -> 2
A24: Palace | B24: ='informations-collectivite'!D11 -> 4
A26: Résidence de tourisme 1 étoile | B26: ='informations-collectivite'!D16 -> 0.8
A27: Résidence de tourisme 2 étoiles | B27: ='informations-collectivite'!D15 -> 0.9
A28: Résidence de tourisme 3 étoiles | B28: ='informations-collectivite'!D14 -> 1.1
A29: Résidence de tourisme 4 étoiles | B29: ='informations-collectivite'!D13 -> 1.5
A30: Résidence de tourisme 5 étoiles | B30: ='informations-collectivite'!D12 -> 2
A32: Village de vacances 1, 2 et 3 étoiles | B32: ='informations-collectivite'!D16 -> 0.8
A33: Village de vacances 4 et 5 étoiles | B33: ='informations-collectivite'!D15 -> 0.9
B36: 2019
A40: Menu déroulant
A41: Janvier
A42: Février
A43: Mars
A44: Avril
A45: Mai
A46: Juin
A47: Juillet
A48: Août
A49: Septembre
A50: Octobre
A51: Novembre
A52: Décembre
A61: ='registre du logeur'!D26*'registre du logeur'!B26 -> 0
A62: ='registre du logeur'!D27*'registre du logeur'!B27 -> 0
A63: ='registre du logeur'!D28*'registre du logeur'!B28 -> 0
A64: ='registre du logeur'!D29*'registre du logeur'!B29 -> 0
A65: ='registre du logeur'!D30*'registre du logeur'!B30 -> 0
A66: ='registre du logeur'!D31*'registre du logeur'!B31 -> 0
A67: ='registre du logeur'!D32*'registre du logeur'!B32 -> 0
A68: ='registre du logeur'!D33*'registre du logeur'!B33 -> 0
A69: ='registre du logeur'!D34*'registre du logeur'!B34 -> 0
A70: ='registre du logeur'!D35*'registre du logeur'!B35 -> 0
A71: ='registre du logeur'!D36*'registre du logeur'!B36 -> 0
A72: ='registre du logeur'!D37*'registre du logeur'!B37 -> 0
... A92: ='registre du logeur'!D57*'registre du logeur'!B57 -> 0

Sheet registre du logeur
B1: REGISTRE DU LOGEUR
B2: =CONCATENATE('informations-collectivite'!D2) -> Territoire de la Côte Ouest
B3: DECLARATION MENSUELLE DE TAXE DE SEJOUR | F3: Pour les hébergements à | H3: TARIF DE LA TAXE FIXE
B4: Mois : | C4: Menu déroulant | E4: Année :
B5: Ce registre concerne les hébergements classés (en étoiles), les palaces, les chambres d’hôtes, les aires de camping-cars, les terrains de camping et de caravanage et les ports de plaisance.
A7: N'OPTEZ POUR CE REGISTRE QUE SI VOUS NE POUVEZ PAS UTILISER RÉGULIÈREMENT LA PLATEFORME WEB
A8: Le REGISTRE DU LOGEUR est un état comptable conforme à I'article R2333-51, sa tenue est une OBLIGATION DE LA LOI.
A9: Préférez LE REGISTRE EN LIGNE, en vous connectant sur | F9: ='informations-collectivite'!D4 -> https://tco.taxesejour.fr/
A10: Vous devrez tous les mois, déclarer le nombre de nuitées effectuées dans votre établissement le mois précédent.
A11: Si vous utilisez ce registre, effectuez votre télédéclaration mensuelle en joignant ce fichier depuis votre compte grâce à notre service de télé-déclaration et de reversement de la taxe de séjour
A12: ='informations-collectivite'!D4 -> https://tco.taxesejour.fr/
A14: Etablissement : | E14: Nom du propriétaire :
A15: Adresse de l'établissement :
A16: Adresse du propriétaire :
A17: Capacité totale d'accueil : | E17: Nb de chambres :
A18: Numéro d'enregistrement :
A20: Nature et Classement de l'hébergement | C20: Sélectionnez la nature et la catégorie dans la liste de ce menu déroulant | F20: Montant TS : | I20: =VLOOKUP(C20,Donnees!A4:B33,2,FALSE) -> 0
C22: Occupants
C23: Assujettis non exonérés
D24: Exonérés
A25: Dates | B25: Nombre de nuits (Durée du séjour) | C25: Nombre de personnes assujettis* non exonérés | D25: Nombre de personnes mineures | E25: Nombre de titulaires d’un contrat de travail saisonnier employés dans la commune | F25: Nombre de personnes bénéficiant d’un hébergement d’urgence | G25: Nombre de personnes occupant des locaux dont le loyer est inférieur à un tarif voté par la collectivité** | H25: Nombre de personnes non assujetties* | I25: Montant taxe perçue
I26: =(C26*B26)*$I$20 -> 0
I27: =(C27*B27)*$I$20 -> 0
I28: =(C28*B28)*$I$20 -> 0
I29: =(C29*B29)*$I$20 -> 0
I30: =(C30*B30)*$I$20 -> 0
I31: =(C31*B31)*$I$20 -> 0
I32: =(C32*B32)*$I$20 -> 0
I33: =(C33*B33)*$I$20 -> 0
I34: =(C34*B34)*$I$20 -> 0
I35: =(C35*B35)*$I$20 -> 0
I36: =(C36*B36)*$I$20 -> 0
I37: =(C37*B37)*$I$20 -> 0
... I57: =(C57*B57)*$I$20 -> 0
A58: TOTAL | I58: =SUM(I26:I57) -> 0
A59: *Conformément à l'article L2333-29 du CGCT, « la taxe de séjour est établie sur les personnes assujetties qui ne sont pas domiciliées dans la commune et qui n'y possèdent pas de résidence à raison de laquelle elles sont redevables de la taxe d'hab1tat1on ». ** personnes occupant des locaux dont le loyer est inférieur à un montant déterminé par le conseil délibérant de la collectivité (exonération qui n'existe pas sur tous les territoires) | H59: Vous ne pouvez rien inscrire dans les colonnes grises; les formules de calcul étant déjà intégrées.
A61: Eléments à reporter dans votre déclaration mensuelle
C62: Déclaration de taxe de Séjour | D62: =C4 -> Menu déroulant | E62: =F4 -> 0
B63: Nombre total de nuitées | E63: =E64+E65+E66+E67+E68+E69 -> 0
B64: Assujettis non exonérés | E64: =SUMPRODUCT(B26:B57,C26:C57) -> 0
B65: Nombre total d'exonération | C65: Mineures | E65: =SUMPRODUCT(B26:B57,D26:D57) -> 0
C66: Saisonniers | E66: =SUMPRODUCT(B26:B57,E26:E57) -> 0
C67: Hébergement d’urgence | E67: =SUMPRODUCT(B26:B57,F26:F57) -> 0
C68: Social | E68: =SUMPRODUCT(B26:B57,G26:G57) -> 0
B69: Non assujetties | E69: =SUMPRODUCT(B26:B57,H26:H57) -> 0
B70: Total montant perçu | E70: =I58 -> 0
A73: N’optez pour une déclaration papier que si vous ne pouvez pas utiliser la plateforme web. Gagnez du temps, réduisez l’utilisation du papier et supprimez les frais postaux, abaissez les frais de gestion Passez à la télédéclaration sur ordinateur, tablette ou smartphone avec :
F74: =CONCATENATE('informations-collectivite'!D4) -> https://tco.taxesejour.fr/
A77: =CONCATENATE('informations-collectivite'!D6) -> TCO - Régie Taxe de séjour
A78: =CONCATENATE('informations-collectivite'!D7) -> 1 rue Eliard Laude - BP 50049 - 97822 LE PORT CEDEX
A79: =CONCATENATE('informations-collectivite'!D8) -> Monsieur Le Régisseur de la taxe de séjour du TCO vous reçoit uniquement sur rendez-vous (Tél.: 0262 32 12 12 / Mél.: tco@taxesejour.fr)
A80: =CONCATENATE('informations-collectivite'!D4) -> https://tco.taxesejour.fr/
